BEGIN:VCALENDAR
VERSION:2.0
PRODID:icalendar-ruby
CALSCALE:GREGORIAN
METHOD:PUBLISH
BEGIN:VEVENT
DTSTAMP:20260419T192206Z
UID:32-749558@stillyvalley.church
DTSTART:20260927T170000Z
DTEND:20260927T180000Z
CLASS:PUBLIC
CREATED:20260415T103739
DESCRIPTION:The last Sunday of every month\, April thru September\, Stilly 
 Valley Church will be having an outdoor service\; Church Under The Tent. 
 \n10:00AM for worship and teaching of the Word of God. \nAt Tractor Suppl
 y Co Parking lot in Arlington\, WA
LAST-MODIFIED:20260415T103739
LOCATION:Tractor Supply Co - Arlington\, WA
SUMMARY:Church Under The Tent
URL;VALUE=URI:https://www.stillyvalley.church/events/church-under-the-tent/
 2026-09-27
ATTACH;FILENAME=Church-Under-The-Tent-graphic.jpg;FMTTYPE=image/jpeg:https:
 //dq5pwpg1q8ru0.cloudfront.net/2026/04/15/17/37/15/02a483eb-36cc-4844-9dab
 -86eefac82911/Church-Under-The-Tent-graphic.jpg
END:VEVENT
END:VCALENDAR
